BEGIN:VCALENDAR
VERSION:2.0
PRODID:-//AMETS - ECPv6.15.20//NONSGML v1.0//EN
CALSCALE:GREGORIAN
METHOD:PUBLISH
X-ORIGINAL-URL:https://amets.com.au
X-WR-CALDESC:Events for AMETS
REFRESH-INTERVAL;VALUE=DURATION:PT1H
X-Robots-Tag:noindex
X-PUBLISHED-TTL:PT1H
BEGIN:VTIMEZONE
TZID:Australia/Melbourne
BEGIN:STANDARD
TZOFFSETFROM:+1100
TZOFFSETTO:+1000
TZNAME:AEST
DTSTART:20230401T160000
END:STANDARD
BEGIN:DAYLIGHT
TZOFFSETFROM:+1000
TZOFFSETTO:+1100
TZNAME:AEDT
DTSTART:20230930T160000
END:DAYLIGHT
BEGIN:STANDARD
TZOFFSETFROM:+1100
TZOFFSETTO:+1000
TZNAME:AEST
DTSTART:20240406T160000
END:STANDARD
BEGIN:DAYLIGHT
TZOFFSETFROM:+1000
TZOFFSETTO:+1100
TZNAME:AEDT
DTSTART:20241005T160000
END:DAYLIGHT
BEGIN:STANDARD
TZOFFSETFROM:+1100
TZOFFSETTO:+1000
TZNAME:AEST
DTSTART:20250405T160000
END:STANDARD
BEGIN:DAYLIGHT
TZOFFSETFROM:+1000
TZOFFSETTO:+1100
TZNAME:AEDT
DTSTART:20251004T160000
END:DAYLIGHT
END:VTIMEZONE
BEGIN:VEVENT
DTSTART;TZID=Australia/Melbourne:20241122T100000
DTEND;TZID=Australia/Melbourne:20241122T140000
DTSTAMP:20260425T202651
CREATED:20241022T175046Z
LAST-MODIFIED:20241022T175046Z
UID:5927-1732269600-1732284000@amets.com.au
SUMMARY:QRC Annual Lunch and Forum
DESCRIPTION:Join AMETS Principal Tenement Manager QLD\, Tamara Grothues and Administration Manager\, Anita Lee at the QRC’s Annual Lunch and Forum at the Brisbane Convention & Exhibition Centre (BCEC) – the flagship event for Queensland’s resources sector. \nThe State of the Sector forum will delve into important issues for the resources sector\, and this year we will put the spotlight on positioning Queensland as a growth state when it comes to resources. The theme for this year’s event is ‘Positioning Queensland as a Growth State’. \nFeaturing guest speaker the Hon Madeleine King MP\, Minister for Resources and Minister for Northern Australia. \nTo purchase tickets for the Forum and Lunch click on the following link: \n2024 QRC Annual Forum and Lunch – Queensland Resources Council
URL:https://amets.com.au/event/qrc-annual-lunch-and-forum/
LOCATION:Brisbane Convention and Exhibition Centre\, Grey St\, South Brisbane\, QLD\, Australia
END:VEVENT
END:VCALENDAR