BEGIN:VCALENDAR
VERSION:2.0
PRODID:-//AMETS - ECPv6.15.20//NONSGML v1.0//EN
CALSCALE:GREGORIAN
METHOD:PUBLISH
X-WR-CALNAME:AMETS
X-ORIGINAL-URL:https://amets.com.au
X-WR-CALDESC:Events for AMETS
REFRESH-INTERVAL;VALUE=DURATION:PT1H
X-Robots-Tag:noindex
X-PUBLISHED-TTL:PT1H
BEGIN:VTIMEZONE
TZID:Australia/Melbourne
BEGIN:STANDARD
TZOFFSETFROM:+1100
TZOFFSETTO:+1000
TZNAME:AEST
DTSTART:20240406T160000
END:STANDARD
BEGIN:DAYLIGHT
TZOFFSETFROM:+1000
TZOFFSETTO:+1100
TZNAME:AEDT
DTSTART:20241005T160000
END:DAYLIGHT
BEGIN:STANDARD
TZOFFSETFROM:+1100
TZOFFSETTO:+1000
TZNAME:AEST
DTSTART:20250405T160000
END:STANDARD
BEGIN:DAYLIGHT
TZOFFSETFROM:+1000
TZOFFSETTO:+1100
TZNAME:AEDT
DTSTART:20251004T160000
END:DAYLIGHT
BEGIN:STANDARD
TZOFFSETFROM:+1100
TZOFFSETTO:+1000
TZNAME:AEST
DTSTART:20260404T160000
END:STANDARD
BEGIN:DAYLIGHT
TZOFFSETFROM:+1000
TZOFFSETTO:+1100
TZNAME:AEDT
DTSTART:20261003T160000
END:DAYLIGHT
END:VTIMEZONE
BEGIN:VEVENT
DTSTART;TZID=Australia/Melbourne:20250923T080000
DTEND;TZID=Australia/Melbourne:20250925T170000
DTSTAMP:20260426T143144
CREATED:20241215T132306Z
LAST-MODIFIED:20251201T032300Z
UID:5958-1758614400-1758819600@amets.com.au
SUMMARY:AIMEX 2025
DESCRIPTION:As Australia’s longest running mining show\, Asia-Pacific’s International Mining Exhibition (AIMEX) has a history of supporting the latest trends and developments in the industry. \n\nFollowing a strong bid from the South Australian Government\, AIMEX will now call South Australia home for the next 10 years. This move marks an exciting new chapter for the event and the region’s resource sector\, with the state leading the way in future-focused mining. \n\n\nThe new phase of AIMEX brings an expanded floorplan with outdoor availability and new verticals including Transformative Technology and the Research and Development Hub. \nAIMEX offers unparalleled opportunities to connect with Australia’s largest community of mining suppliers and professionals in an environment that stimulates innovation and collaboration. \n\nThousands of mining delegates from Australia and around the world will make their way to Adelaide on 23–25 September for three days of informative and engaging presentations across AIMEX’s three stages\, and countless opportunities for visitors and exhibitors to network. \nWith new feature pavilions – mining\, energy\, and research and development – AIMEX 2025 is offering more ways than ever before for mining companies\, contractors\, suppliers and buyers to connect.
URL:https://amets.com.au/event/aimex-2025/
LOCATION:Adelaide Showgrounds
ATTACH;FMTTYPE=image/png:https://amets.com.au/wp-content/uploads/logo-4.png
END:VEVENT
BEGIN:VEVENT
DTSTART;TZID=Australia/Melbourne:20250923T163000
DTEND;TZID=Australia/Melbourne:20250923T190000
DTSTAMP:20260426T143144
CREATED:20250908T201953Z
LAST-MODIFIED:20260223T233218Z
UID:6047-1758645000-1758654000@amets.com.au
SUMMARY:QEC Critical Minerals Showcase
DESCRIPTION:The QEC | McCullough Robertson Critical Minerals Showcase will be held in Brisbane on Tuesday 23 September. This event is a must-attend for anyone keen on Queensland’s critical mineral projects. \nJoin Tamara Grothues\, AMETS QLD Principal Tenement Manager at an evening filled with insights from industry experts\, networking opportunities\, and a chance to explore the investment potential of three prominent Queensland exploration companies. \nDon’t miss out on this fantastic opportunity to learn\, connect\, and stay ahead in the Queensland resources industry. We look forward to seeing you there! \nBuy tickets via the link: https://www.qrc.org.au/events/event/qec-critical-minerals-showcase/
URL:https://amets.com.au/event/qec-critical-minerals-showcase/
LOCATION:Brisbane
ATTACH;FMTTYPE=image/png:https://amets.com.au/wp-content/uploads/Logo-13.png
END:VEVENT
END:VCALENDAR