BEGIN:VCALENDAR
VERSION:2.0
PRODID:-//AMETS - ECPv6.15.20//NONSGML v1.0//EN
CALSCALE:GREGORIAN
METHOD:PUBLISH
X-WR-CALNAME:AMETS
X-ORIGINAL-URL:https://amets.com.au
X-WR-CALDESC:Events for AMETS
REFRESH-INTERVAL;VALUE=DURATION:PT1H
X-Robots-Tag:noindex
X-PUBLISHED-TTL:PT1H
BEGIN:VTIMEZONE
TZID:Australia/Melbourne
BEGIN:STANDARD
TZOFFSETFROM:+1100
TZOFFSETTO:+1000
TZNAME:AEST
DTSTART:20240406T160000
END:STANDARD
BEGIN:DAYLIGHT
TZOFFSETFROM:+1000
TZOFFSETTO:+1100
TZNAME:AEDT
DTSTART:20241005T160000
END:DAYLIGHT
BEGIN:STANDARD
TZOFFSETFROM:+1100
TZOFFSETTO:+1000
TZNAME:AEST
DTSTART:20250405T160000
END:STANDARD
BEGIN:DAYLIGHT
TZOFFSETFROM:+1000
TZOFFSETTO:+1100
TZNAME:AEDT
DTSTART:20251004T160000
END:DAYLIGHT
BEGIN:STANDARD
TZOFFSETFROM:+1100
TZOFFSETTO:+1000
TZNAME:AEST
DTSTART:20260404T160000
END:STANDARD
BEGIN:DAYLIGHT
TZOFFSETFROM:+1000
TZOFFSETTO:+1100
TZNAME:AEDT
DTSTART:20261003T160000
END:DAYLIGHT
END:VTIMEZONE
BEGIN:VTIMEZONE
TZID:Australia/Melbourne
BEGIN:STANDARD
TZOFFSETFROM:+1100
TZOFFSETTO:+1000
TZNAME:AEST
DTSTART:20240406T160000
END:STANDARD
BEGIN:DAYLIGHT
TZOFFSETFROM:+1000
TZOFFSETTO:+1100
TZNAME:AEDT
DTSTART:20241005T160000
END:DAYLIGHT
BEGIN:STANDARD
TZOFFSETFROM:+1100
TZOFFSETTO:+1000
TZNAME:AEST
DTSTART:20250405T160000
END:STANDARD
BEGIN:DAYLIGHT
TZOFFSETFROM:+1000
TZOFFSETTO:+1100
TZNAME:AEDT
DTSTART:20251004T160000
END:DAYLIGHT
BEGIN:STANDARD
TZOFFSETFROM:+1100
TZOFFSETTO:+1000
TZNAME:AEST
DTSTART:20260404T160000
END:STANDARD
BEGIN:DAYLIGHT
TZOFFSETFROM:+1000
TZOFFSETTO:+1100
TZNAME:AEDT
DTSTART:20261003T160000
END:DAYLIGHT
END:VTIMEZONE
BEGIN:VEVENT
DTSTART;TZID=Australia/Melbourne:20251008T080000
DTEND;TZID=Australia/Melbourne:20251009T170000
DTSTAMP:20260426T131521
CREATED:20241215T130708Z
LAST-MODIFIED:20251201T032228Z
UID:5942-1759910400-1760029200@amets.com.au
SUMMARY:WA Mining Conference 2025
DESCRIPTION:The WA Mining Conference and Exhibition will be returning in October 2025.  In 2024 the conference experienced its highest attendance level in the event’s history\, with 3000+ attendees and 40+ speakers at the two day event. \nMore information to come about this cornerstone event. \nDate: 8-9 October 2025 \nVenue: Perth Convention & Exhibition Centre \nFind out more here.
URL:https://amets.com.au/event/wa-mining-conference-2025/
LOCATION:Perth Convention & Exhibition Centre\, 21 Mounts Bay Road\, Perth\, WA\, 6000\, Australia
ATTACH;FMTTYPE=image/png:https://amets.com.au/wp-content/uploads/Screenshot-2024-12-13-115239.png
END:VEVENT
BEGIN:VEVENT
DTSTART;TZID=Australia/Melbourne:20251008T120000
DTEND;TZID=Australia/Melbourne:20251008T143000
DTSTAMP:20260426T131521
CREATED:20250922T144157Z
LAST-MODIFIED:20260223T233024Z
UID:6059-1759924800-1759933800@amets.com.au
SUMMARY:AMEC & Austex Resources Luncheon
DESCRIPTION:The Association of Mining and Exploration Companies (AMEC) and Austex Resource Opportunities (Austex) are delighted to be hosting the next luncheon on Wednesday 8 October. \nAMETS team member Christian Leidesdorff\, Geoservices Manager is excited to be attending the event and look forward to catching up with industry colleagues. \nRegistration essential: Event Management
URL:https://amets.com.au/event/amec-austex-resources-luncheon/
LOCATION:Paddington\, QLD
ATTACH;FMTTYPE=image/png:https://amets.com.au/wp-content/uploads/Logo-3-2.png
END:VEVENT
END:VCALENDAR