BEGIN:VCALENDAR
VERSION:2.0
PRODID:-//AMETS - ECPv6.15.20//NONSGML v1.0//EN
CALSCALE:GREGORIAN
METHOD:PUBLISH
X-WR-CALNAME:AMETS
X-ORIGINAL-URL:https://amets.com.au
X-WR-CALDESC:Events for AMETS
REFRESH-INTERVAL;VALUE=DURATION:PT1H
X-Robots-Tag:noindex
X-PUBLISHED-TTL:PT1H
BEGIN:VTIMEZONE
TZID:Australia/Melbourne
BEGIN:STANDARD
TZOFFSETFROM:+1100
TZOFFSETTO:+1000
TZNAME:AEST
DTSTART:20240406T160000
END:STANDARD
BEGIN:DAYLIGHT
TZOFFSETFROM:+1000
TZOFFSETTO:+1100
TZNAME:AEDT
DTSTART:20241005T160000
END:DAYLIGHT
BEGIN:STANDARD
TZOFFSETFROM:+1100
TZOFFSETTO:+1000
TZNAME:AEST
DTSTART:20250405T160000
END:STANDARD
BEGIN:DAYLIGHT
TZOFFSETFROM:+1000
TZOFFSETTO:+1100
TZNAME:AEDT
DTSTART:20251004T160000
END:DAYLIGHT
BEGIN:STANDARD
TZOFFSETFROM:+1100
TZOFFSETTO:+1000
TZNAME:AEST
DTSTART:20260404T160000
END:STANDARD
BEGIN:DAYLIGHT
TZOFFSETFROM:+1000
TZOFFSETTO:+1100
TZNAME:AEDT
DTSTART:20261003T160000
END:DAYLIGHT
END:VTIMEZONE
BEGIN:VEVENT
DTSTART;TZID=Australia/Melbourne:20251021T080000
DTEND;TZID=Australia/Melbourne:20251023T170000
DTSTAMP:20260426T142234
CREATED:20241215T125902Z
LAST-MODIFIED:20251201T032130Z
UID:5939-1761033600-1761238800@amets.com.au
SUMMARY:IMARC 2025
DESCRIPTION:The International Mining and Resources Conference (IMARC) is where the most influential people in the mining industry come together to share ideas\, source inspiration\, and meet face-to-face. \nJoin other industry leaders for three days of networking\, knowledge-sharing\, and discussions on ESG\, energy transition\, digitalisation\, and more. \nDate: 21-23 October 2025 \nVenue: ICC Sydney \nLearn from more than 600 mining leaders and resource experts with a program covering the entire mining value chain. Attend one of the many networking events or simply catch up with industry colleagues on the 20\,000m2 expo show floor featuring 500+ leading companies. \nRegister your interest now with IMARC.
URL:https://amets.com.au/event/imarc-2025/
LOCATION:ICC Sydney\, Sydney\, NSW
ATTACH;FMTTYPE=image/webp:https://amets.com.au/wp-content/uploads/IMARC-Logo-2025.webp
END:VEVENT
END:VCALENDAR