BEGIN:VCALENDAR
VERSION:2.0
PRODID:-//AMETS - ECPv6.15.20//NONSGML v1.0//EN
CALSCALE:GREGORIAN
METHOD:PUBLISH
X-WR-CALNAME:AMETS
X-ORIGINAL-URL:https://amets.com.au
X-WR-CALDESC:Events for AMETS
REFRESH-INTERVAL;VALUE=DURATION:PT1H
X-Robots-Tag:noindex
X-PUBLISHED-TTL:PT1H
BEGIN:VTIMEZONE
TZID:Australia/Melbourne
BEGIN:STANDARD
TZOFFSETFROM:+1100
TZOFFSETTO:+1000
TZNAME:AEST
DTSTART:20240406T160000
END:STANDARD
BEGIN:DAYLIGHT
TZOFFSETFROM:+1000
TZOFFSETTO:+1100
TZNAME:AEDT
DTSTART:20241005T160000
END:DAYLIGHT
BEGIN:STANDARD
TZOFFSETFROM:+1100
TZOFFSETTO:+1000
TZNAME:AEST
DTSTART:20250405T160000
END:STANDARD
BEGIN:DAYLIGHT
TZOFFSETFROM:+1000
TZOFFSETTO:+1100
TZNAME:AEDT
DTSTART:20251004T160000
END:DAYLIGHT
BEGIN:STANDARD
TZOFFSETFROM:+1100
TZOFFSETTO:+1000
TZNAME:AEST
DTSTART:20260404T160000
END:STANDARD
BEGIN:DAYLIGHT
TZOFFSETFROM:+1000
TZOFFSETTO:+1100
TZNAME:AEDT
DTSTART:20261003T160000
END:DAYLIGHT
END:VTIMEZONE
BEGIN:VEVENT
DTSTART;TZID=Australia/Melbourne:20251031T070000
DTEND;TZID=Australia/Melbourne:20251031T090000
DTSTAMP:20260426T131518
CREATED:20251026T142143Z
LAST-MODIFIED:20251201T032105Z
UID:6062-1761894000-1761901200@amets.com.au
SUMMARY:QEC Exploration Scorecard Launch Breakfast
DESCRIPTION:As an award-winning leader in Tenement Management and Geoservices\, AMETS is proud to sponsor the Queensland Exploration Councils Scorecard Launch 2025. The event will be held on 31 October and showcases the health and opportunities of Queensland’s exploration sector. \nOur ongoing sponsorship reflects our commitment to supporting the mining and exploration industry\, and ensuring our team remains at the forefront of industry updates and insights that directly benefit our clients. \nWe’re pleased to share that AMETS CEO | Managing Director\, Leanne Brock\, will be attending the event to introduce the panelists\, joined by a team of staff from across AMETS departments — reinforcing our commitment to continuous learning\, collaboration\, and industry engagement. \nThis year’s event\, themed “Investment Attraction: Securing Queensland’s Path to Production”\, will feature insights from The Hon Dale Last MP\, Minister for Natural Resources and Mines\, and a panel of industry experts. \nWe look forward to connecting with government\, industry\, and investors to continue driving sustainable growth and innovation across Queensland’s exploration landscape. \nRegistration is essential.
URL:https://amets.com.au/event/qec-exploration-scorecard-launch-breakfast/
LOCATION:The Westin\, Brisbane\, Brisbane\, QLD
ATTACH;FMTTYPE=image/png:https://amets.com.au/wp-content/uploads/Logo-14.png
END:VEVENT
END:VCALENDAR