BEGIN:VCALENDAR
VERSION:2.0
PRODID:-//AMETS - ECPv6.15.20//NONSGML v1.0//EN
CALSCALE:GREGORIAN
METHOD:PUBLISH
X-WR-CALNAME:AMETS
X-ORIGINAL-URL:https://amets.com.au
X-WR-CALDESC:Events for AMETS
REFRESH-INTERVAL;VALUE=DURATION:PT1H
X-Robots-Tag:noindex
X-PUBLISHED-TTL:PT1H
BEGIN:VTIMEZONE
TZID:Australia/Melbourne
BEGIN:STANDARD
TZOFFSETFROM:+1100
TZOFFSETTO:+1000
TZNAME:AEST
DTSTART:20240406T160000
END:STANDARD
BEGIN:DAYLIGHT
TZOFFSETFROM:+1000
TZOFFSETTO:+1100
TZNAME:AEDT
DTSTART:20241005T160000
END:DAYLIGHT
BEGIN:STANDARD
TZOFFSETFROM:+1100
TZOFFSETTO:+1000
TZNAME:AEST
DTSTART:20250405T160000
END:STANDARD
BEGIN:DAYLIGHT
TZOFFSETFROM:+1000
TZOFFSETTO:+1100
TZNAME:AEDT
DTSTART:20251004T160000
END:DAYLIGHT
BEGIN:STANDARD
TZOFFSETFROM:+1100
TZOFFSETTO:+1000
TZNAME:AEST
DTSTART:20260404T160000
END:STANDARD
BEGIN:DAYLIGHT
TZOFFSETFROM:+1000
TZOFFSETTO:+1100
TZNAME:AEDT
DTSTART:20261003T160000
END:DAYLIGHT
END:VTIMEZONE
BEGIN:VEVENT
DTSTART;TZID=Australia/Melbourne:20251112T080000
DTEND;TZID=Australia/Melbourne:20251114T170000
DTSTAMP:20260426T115604
CREATED:20241215T134315Z
LAST-MODIFIED:20251201T032011Z
UID:5965-1762934400-1763139600@amets.com.au
SUMMARY:Noosa Mining - November 2025
DESCRIPTION:The Noosa Mining Investor Conference is a highly valued and informative event held twice a year at Peppers Noosa Resort on the top end of Queensland’s beautiful Sunshine Coast. \n\nThe Conference features ASX listed resource companies showcasing and selling their investment credentials via an exhibition and formal presentations.​\n\n\nDesigned to give investors\, brokers and fund managers a better understanding of current investment opportunities in the mining\, energy and exploration sectors\, the Conference brings senior company executives and investors together in a relaxed yet sophisticated setting. \n​The Noosa Mining Investor Conference is considered by many as a ‘must attend’ event in the Australian resources sector. In July 2024\, some 65 listed companies made presentations and exhibited attracting over 2300 delegates either in-person or online.
URL:https://amets.com.au/event/noosa-mining-november-2025/
LOCATION:Noosa Peppers Resort
ATTACH;FMTTYPE=image/png:https://amets.com.au/wp-content/uploads/logo-7.png
END:VEVENT
END:VCALENDAR