BEGIN:VCALENDAR
VERSION:2.0
PRODID:-//AMETS - ECPv6.15.20//NONSGML v1.0//EN
CALSCALE:GREGORIAN
METHOD:PUBLISH
X-WR-CALNAME:AMETS
X-ORIGINAL-URL:https://amets.com.au
X-WR-CALDESC:Events for AMETS
REFRESH-INTERVAL;VALUE=DURATION:PT1H
X-Robots-Tag:noindex
X-PUBLISHED-TTL:PT1H
BEGIN:VTIMEZONE
TZID:Australia/Melbourne
BEGIN:STANDARD
TZOFFSETFROM:+1100
TZOFFSETTO:+1000
TZNAME:AEST
DTSTART:20240406T160000
END:STANDARD
BEGIN:DAYLIGHT
TZOFFSETFROM:+1000
TZOFFSETTO:+1100
TZNAME:AEDT
DTSTART:20241005T160000
END:DAYLIGHT
BEGIN:STANDARD
TZOFFSETFROM:+1100
TZOFFSETTO:+1000
TZNAME:AEST
DTSTART:20250405T160000
END:STANDARD
BEGIN:DAYLIGHT
TZOFFSETFROM:+1000
TZOFFSETTO:+1100
TZNAME:AEDT
DTSTART:20251004T160000
END:DAYLIGHT
BEGIN:STANDARD
TZOFFSETFROM:+1100
TZOFFSETTO:+1000
TZNAME:AEST
DTSTART:20260404T160000
END:STANDARD
BEGIN:DAYLIGHT
TZOFFSETFROM:+1000
TZOFFSETTO:+1100
TZNAME:AEDT
DTSTART:20261003T160000
END:DAYLIGHT
END:VTIMEZONE
BEGIN:VEVENT
DTSTART;TZID=Australia/Melbourne:20251119T163000
DTEND;TZID=Australia/Melbourne:20251119T183000
DTSTAMP:20260426T115609
CREATED:20251111T124236Z
LAST-MODIFIED:20251128T054845Z
UID:6075-1763569800-1763577000@amets.com.au
SUMMARY:AMEC QLD End of Year Networking Event
DESCRIPTION:AMETS Tenement & Geoservices is proud to continue supporting the mining industry by staying ahead of key updates and connecting with colleagues across the sector through attendance at AMEC State Networking Events. \nChristian Leidersdorff\, AMETS Geoservices Manager\, will be attending the AMEC QLD End of Year Networking Event on Tuesday\, 19 November in Brisbane — a great opportunity to connect and learn more about the specialised Geoservices that AMETS provides to support exploration and mining success. \nWe look forward to engaging with our industry peers and celebrating another productive year for Queensland’s exploration and mining sector. \nRegistration is essential: QLD EOY Drinks – AMEC | Association of Mining and Exploration Companies
URL:https://amets.com.au/event/amec-qld-end-of-year-networking-event/
LOCATION:Brisbane
ATTACH;FMTTYPE=image/jpeg:https://amets.com.au/wp-content/uploads/20251112-AMEC-QLD-Image-_D-Howes.jpg
END:VEVENT
BEGIN:VEVENT
DTSTART;TZID=Australia/Melbourne:20251119T183000
DTEND;TZID=Australia/Melbourne:20251119T223000
DTSTAMP:20260426T115609
CREATED:20251026T162320Z
LAST-MODIFIED:20260223T232927Z
UID:6068-1763577000-1763591400@amets.com.au
SUMMARY:WISER Gala
DESCRIPTION:  \nAMETS is proud to be represented at this year’s WISER 2025 Gala – Together We SHINE\, by Anita Lee\, Administration Manager and Tamara Grothues\, QLD Principal Tenement Manager. \nThis highly anticipated annual event celebrates the achievements of women across Australia’s energy and resources sectors\, bringing together influential leaders\, emerging professionals\, and allies to reflect on the year’s successes and look ahead to new opportunities for collaboration and growth. \nAs a company that values diversity\, leadership\, and innovation\, AMETS is delighted to participate in this important industry celebration. The Gala provides a meaningful platform to recognise women’s contributions to the sustainable energy and resources industries and to continue fostering connections that drive progress across the sector. \nWe look forward to joining our WISER colleagues and friends for an evening of inspiration\, connection\, and celebration. \nTickets essential.
URL:https://amets.com.au/event/11633/
LOCATION:Rivershed West\, Howard Smith Wharves\, Brisbane\, QLD
ATTACH;FMTTYPE=image/png:https://amets.com.au/wp-content/uploads/Logo-1-5.png
END:VEVENT
END:VCALENDAR