BEGIN:VCALENDAR
VERSION:2.0
PRODID:-//AMETS - ECPv6.15.20//NONSGML v1.0//EN
CALSCALE:GREGORIAN
METHOD:PUBLISH
X-ORIGINAL-URL:https://amets.com.au
X-WR-CALDESC:Events for AMETS
REFRESH-INTERVAL;VALUE=DURATION:PT1H
X-Robots-Tag:noindex
X-PUBLISHED-TTL:PT1H
BEGIN:VTIMEZONE
TZID:Australia/Melbourne
BEGIN:STANDARD
TZOFFSETFROM:+1100
TZOFFSETTO:+1000
TZNAME:AEST
DTSTART:20240406T160000
END:STANDARD
BEGIN:DAYLIGHT
TZOFFSETFROM:+1000
TZOFFSETTO:+1100
TZNAME:AEDT
DTSTART:20241005T160000
END:DAYLIGHT
BEGIN:STANDARD
TZOFFSETFROM:+1100
TZOFFSETTO:+1000
TZNAME:AEST
DTSTART:20250405T160000
END:STANDARD
BEGIN:DAYLIGHT
TZOFFSETFROM:+1000
TZOFFSETTO:+1100
TZNAME:AEDT
DTSTART:20251004T160000
END:DAYLIGHT
BEGIN:STANDARD
TZOFFSETFROM:+1100
TZOFFSETTO:+1000
TZNAME:AEST
DTSTART:20260404T160000
END:STANDARD
BEGIN:DAYLIGHT
TZOFFSETFROM:+1000
TZOFFSETTO:+1100
TZNAME:AEDT
DTSTART:20261003T160000
END:DAYLIGHT
END:VTIMEZONE
BEGIN:VEVENT
DTSTART;TZID=Australia/Melbourne:20251125T170000
DTEND;TZID=Australia/Melbourne:20251125T190000
DTSTAMP:20260426T115859
CREATED:20250609T170045Z
LAST-MODIFIED:20251128T054835Z
UID:6009-1764090000-1764097200@amets.com.au
SUMMARY:AMEC SA EOY Event - SPONSOR
DESCRIPTION:  \nAMETS is excited to be sponsoring the Association of Mining and Exploration Companies (AMEC) South Australia End of Year Drinks. \nThis event is a fantastic opportunity to wrap up another successful year for the SA minerals industry and celebrate our collective achievements. \nAMETS CEO | Managing Director Leanne Brock and Tenement Manager Kathryn Brown will be attending on behalf of the AMETS team—we look forward to seeing many familiar faces and new connections there! \nDate: Tuesday 26 November\nTime: 5:00pm – 7:00pm ACDT \nRegistration Essential: SA EOY Drinks – AMEC | Association of Mining and Exploration Companies \n 
URL:https://amets.com.au/event/amec-sa-eoy-event/
LOCATION:Adelaide
ATTACH;FMTTYPE=image/webp:https://amets.com.au/wp-content/uploads/Logo-1.webp
END:VEVENT
END:VCALENDAR