BEGIN:VCALENDAR
VERSION:2.0
PRODID:-//AMETS - ECPv6.15.20//NONSGML v1.0//EN
CALSCALE:GREGORIAN
METHOD:PUBLISH
X-ORIGINAL-URL:https://amets.com.au
X-WR-CALDESC:Events for AMETS
REFRESH-INTERVAL;VALUE=DURATION:PT1H
X-Robots-Tag:noindex
X-PUBLISHED-TTL:PT1H
BEGIN:VTIMEZONE
TZID:Australia/Brisbane
BEGIN:STANDARD
TZOFFSETFROM:+1000
TZOFFSETTO:+1000
TZNAME:AEST
DTSTART:20250101T000000
END:STANDARD
END:VTIMEZONE
BEGIN:VEVENT
DTSTART;VALUE=DATE:20260414
DTEND;VALUE=DATE:20260416
DTSTAMP:20260426T024956
CREATED:20251210T211001Z
LAST-MODIFIED:20260316T002617Z
UID:6461-1776124800-1776297599@amets.com.au
SUMMARY:AGES 2026
DESCRIPTION:AGES 2026: Showcasing the Future of Exploration in the Northern Territory \nThe Annual Geoscience Exploration Seminar (AGES) 2026 will take place on 14–15 April 2026 at the Alice Springs Convention Centre\, bringing together geoscientists\, explorers\, mining professionals\, service providers and industry partners from across the Northern Territory and beyond. \nAGES is recognised as one of the NT’s premier technical exploration conferences\, offering unparalleled access to the latest geoscientific insights\, exploration results and data releases. Hosted by the NT Geological Survey and its partners\, the event provides a valuable platform for sharing fresh ideas\, showcasing innovation and supporting the growth of the Territory’s minerals and energy sectors. \nA Hub for Cutting-Edge Geoscience \nAttendees will gain exposure to: \n\nNew exploration results from across the NT\nLatest geoscientific data and research from the NT Geological Survey\nUpdates from active exploration companies and industry leaders\nInsight into emerging opportunities across a wide range of commodities\n\nThis technical\, exploration-focused format makes AGES a must-attend event for anyone committed to discovery and development throughout the Territory. \nAlice Springs Mining Services Expo \nRunning alongside the seminar\, the Alice Springs Mining Services Expo provides a dynamic showcase of the businesses and enterprises that support the NT’s exploration and mining industries. \nThe expo offers: \n\nA platform for local\, national and international suppliers to promote their capabilities\nDirect engagement with more than 300 AGES delegates\nOpportunities for businesses to demonstrate their products\, services and technical expertise\nExposure to government agencies\, associations and key decision-makers across the sector\n\nFrom equipment suppliers to specialist technical consultancies\, the expo highlights the diverse capabilities available throughout Central Australia and across the NT. \nNetworking & Industry Connections \nBoth AGES and the Mining Services Expo deliver valuable opportunities to meet colleagues\, connect with potential clients\, and engage with organisations shaping the future of the Territory’s resources industry. \nFor businesses working in exploration and mining — or looking to expand into the Northern Territory — AGES 2026 is a vital event for building relationships\, gaining insights and staying at the forefront of industry developments. \nThis year\, AMETS will again have a booth at AGES. Attending will be:  \n\n Leanne Brock – CEO | Managing Director \nHolly Edgar – Principal Tenement Manager | Geologist\n Kyen Knight – Administration Geologist \nLinda Young – Client & Stakeholder Engagement\n\nIf you are reviewing your NT compliance framework\, planning tenure growth\, or preparing for funding milestones in 2026\, we would welcome a strategic conversation.  \nFeel free to reach out to schedule time during AGES.  \nFind out more about AGES here.
URL:https://amets.com.au/event/ages-2026/
LOCATION:Alice Springs Convention Centre\, Alice Springs\, NT\, Australia
ATTACH;FMTTYPE=image/png:https://amets.com.au/wp-content/uploads/2026-Website-Event-Image-AGES.png
END:VEVENT
END:VCALENDAR