BEGIN:VCALENDAR
VERSION:2.0
PRODID:-//AMETS - ECPv6.15.20//NONSGML v1.0//EN
CALSCALE:GREGORIAN
METHOD:PUBLISH
X-ORIGINAL-URL:https://amets.com.au
X-WR-CALDESC:Events for AMETS
REFRESH-INTERVAL;VALUE=DURATION:PT1H
X-Robots-Tag:noindex
X-PUBLISHED-TTL:PT1H
BEGIN:VTIMEZONE
TZID:Australia/Perth
BEGIN:STANDARD
TZOFFSETFROM:+0800
TZOFFSETTO:+0800
TZNAME:AWST
DTSTART:20250101T000000
END:STANDARD
END:VTIMEZONE
BEGIN:VEVENT
DTSTART;VALUE=DATE:20260616
DTEND;VALUE=DATE:20260618
DTSTAMP:20260426T035935
CREATED:20251211T220341Z
LAST-MODIFIED:20251211T220341Z
UID:6552-1781568000-1781740799@amets.com.au
SUMMARY:Future of Mining Conference
DESCRIPTION:Future of Mining Australia 2026 is a leading industry conference and exhibition focused on practical solutions\, innovation and strategic thinking for the mining sector. The event brings together mining executives\, technology providers\, policymakers and industry professionals to address the most pressing challenges facing mining operations today — from sustainability and digital transformation to workforce development and safety. \nMining Smarter. Mining Better. \nEvent Highlights \n\nForward-Looking Conference Program\nDelve into sessions that tackle geopolitical uncertainty\, operational resilience and the transition to smarter\, more sustainable mining practices.\nIndustry Innovation & Technology\nDiscover cutting-edge technologies and solutions shaping modern mining\, including advances in automation\, electrification and digital tools.\nExpert Speakers & Insights\nGain insights from thought leaders\, industry experts and innovators who are influencing the future direction of the mining industry.\nInteractive Discussions\nParticipate in collaborative discussions and workshops designed to challenge the status quo and support real-world outcomes.\n\nWhy Attend \nFuture of Mining Australia is designed for professionals seeking actionable strategies and a deeper understanding of how to navigate the evolving mining landscape. Delegates benefit from high-level perspectives on efficiency\, sustainability\, workforce challenges and market opportunities — all aimed at strengthening competitiveness and operational performance. \nLocation & Experience \nHosted at Crown Perth in Western Australia’s capital\, the conference offers an engaging environment for learning\, networking and collaboration within one of the world’s most dynamic mining regions. \nFind out more about the Future of Mining Conference here.
URL:https://amets.com.au/event/future-of-mining-conference/
LOCATION:Crown Perth\, Great Eastern Highway\, Burswood\, WA\, 6100\, Australia
ATTACH;FMTTYPE=image/png:https://amets.com.au/wp-content/uploads/2026-Website-Event-Image-Future-of-Mining-Conference.png
END:VEVENT
END:VCALENDAR