BEGIN:VCALENDAR
VERSION:2.0
PRODID:-//AMETS - ECPv6.15.20//NONSGML v1.0//EN
CALSCALE:GREGORIAN
METHOD:PUBLISH
X-ORIGINAL-URL:https://amets.com.au
X-WR-CALDESC:Events for AMETS
REFRESH-INTERVAL;VALUE=DURATION:PT1H
X-Robots-Tag:noindex
X-PUBLISHED-TTL:PT1H
BEGIN:VTIMEZONE
TZID:Australia/Sydney
BEGIN:STANDARD
TZOFFSETFROM:+1100
TZOFFSETTO:+1000
TZNAME:AEST
DTSTART:20250405T160000
END:STANDARD
BEGIN:DAYLIGHT
TZOFFSETFROM:+1000
TZOFFSETTO:+1100
TZNAME:AEDT
DTSTART:20251004T160000
END:DAYLIGHT
BEGIN:STANDARD
TZOFFSETFROM:+1100
TZOFFSETTO:+1000
TZNAME:AEST
DTSTART:20260404T160000
END:STANDARD
BEGIN:DAYLIGHT
TZOFFSETFROM:+1000
TZOFFSETTO:+1100
TZNAME:AEDT
DTSTART:20261003T160000
END:DAYLIGHT
BEGIN:STANDARD
TZOFFSETFROM:+1100
TZOFFSETTO:+1000
TZNAME:AEST
DTSTART:20270403T160000
END:STANDARD
BEGIN:DAYLIGHT
TZOFFSETFROM:+1000
TZOFFSETTO:+1100
TZNAME:AEDT
DTSTART:20271002T160000
END:DAYLIGHT
END:VTIMEZONE
BEGIN:VEVENT
DTSTART;TZID=Australia/Sydney:20260701T100000
DTEND;TZID=Australia/Sydney:20260702T170000
DTSTAMP:20260426T035937
CREATED:20260130T061457Z
LAST-MODIFIED:20260203T043042Z
UID:7258-1782900000-1783011600@amets.com.au
SUMMARY:PNG Industrial and Mining Resources Exhibition & Conference 2026
DESCRIPTION:The PNG Industrial and Mining Resources Exhibition and Conference is the leading platform bringing together all sectors of the industrial\, mining and resources industries into one central marketplace where business is done. The event creates a unique opportunity for collaboration\, knowledge sharing and commercial engagement across the region. \nEvent Details \nDates: 1–2 July 2026\nTime: 10:00am – 5:00pm daily\nVenue: The Stanley Hotel & Suites\nAddress: NCD\, Sir John Guise Drive\, Port Moresby 121\, Papua New Guinea \n What to Expect in 2026 \nThe 2026 exhibition will feature: \n\nAn expanded exhibition floorplan showcasing a diverse range of equipment\, technology and service providers\nIndustry-leading equipment displays and interactive stands\nA comprehensive two-day conference program featuring experts from across the mining and resources sector\nIn-depth discussions on the challenges and opportunities shaping the future of the local and regional industry\nThe free-to-attend conference program will deliver high-value insights\, expert analysis and practical takeaways for professionals working across all areas of the industry.\n\nNetworking at the Core \nAt PNG EXPO\, networking is more than just part of the program — it’s the foundation of the event experience. From the welcome reception and official networking functions to curated business meetings and informal connections\, every element of the event is designed to build meaningful relationships. \nWhether through structured industry meetups\, relaxed social settings\, or spontaneous conversations between sessions\, PNG EXPO creates genuine opportunities for collaboration\, partnership development and long-term business growth. \n Connect with AMETS \nLeanne Brock\, AMETS CEO | Managing Director will be attending the PNG EXPO 2026 and welcome the opportunity to connect with clients\, partners and industry stakeholders throughout the event. \nWe look forward to strengthening relationships with our PNG clients\, deepen local partnerships\, and continue supporting projects across the region through meaningful\, face-to-face engagement. \nIf you’re attending the PNG EXPO and would like to meet with the Leanne\, we encourage you to reach out and arrange a time to connect during the conference. \nFind out more about the PNG Expo here.
URL:https://amets.com.au/event/png-industrial-and-mining-resources-exhibition-conference-2026/
LOCATION:The Stanley Hotel & Suites\, NCD\, Sir John Guise Drive\, Port Moresby\, Papua New Guinea
ATTACH;FMTTYPE=image/png:https://amets.com.au/wp-content/uploads/2026-Website-Blog-Image-PNG-Expo.png
END:VEVENT
END:VCALENDAR