BEGIN:VCALENDAR
VERSION:2.0
PRODID:-//AMETS - ECPv6.15.20//NONSGML v1.0//EN
CALSCALE:GREGORIAN
METHOD:PUBLISH
X-WR-CALNAME:AMETS
X-ORIGINAL-URL:https://amets.com.au
X-WR-CALDESC:Events for AMETS
REFRESH-INTERVAL;VALUE=DURATION:PT1H
X-Robots-Tag:noindex
X-PUBLISHED-TTL:PT1H
BEGIN:VTIMEZONE
TZID:Australia/Brisbane
BEGIN:STANDARD
TZOFFSETFROM:+1000
TZOFFSETTO:+1000
TZNAME:AEST
DTSTART:20250101T000000
END:STANDARD
END:VTIMEZONE
BEGIN:VEVENT
DTSTART;VALUE=DATE:20260722
DTEND;VALUE=DATE:20260725
DTSTAMP:20260426T052315
CREATED:20251211T213105Z
LAST-MODIFIED:20251211T213105Z
UID:6548-1784678400-1784937599@amets.com.au
SUMMARY:Noosa Mining Investor Conference
DESCRIPTION:Australia’s Premier Mining Investment Event \nThe Noosa Mining Investor Conference is a highly regarded biannual event that brings together investors\, brokers\, fund managers and senior mining executives for three days of presentations\, insights and networking on the Sunshine Coast. Held at the picturesque Peppers Noosa Resort\, the conference offers a relaxed yet professional setting where resource companies and financial participants connect to explore investment opportunities across the mining and resources sector. \nWhat to Expect \n\nShowcase of ASX-Listed Resource Companies\nLeading and emerging mining companies present their projects\, strategies and growth prospects to an audience of investors and financial professionals.\nExhibition & Presentations\nFeatures an exhibition floor and formal presentation sessions designed to deepen understanding of current market trends\, exploration successes and investment potential across commodities and regions.\nHybrid Attendance\nAttendees can participate in person or access live streamed presentations online\, accommodating both face-to-face engagement and remote participation.\nNetworking Opportunities\nThe conference fosters valuable networking with industry leaders\, investors\, analysts and mining professionals in a collaborative environment.\n\nWhy Attend \nConsidered one of the must-attend events on the Australian mining calendar\, the Noosa Mining Investor Conference provides unparalleled exposure to investment opportunities and industry developments. The event is especially valuable for investors and fund managers seeking direct dialogue with company executives and a deeper appreciation of sector dynamics. \nLocation & Experience \nHosted at the beautiful Peppers Noosa Resort on Queensland’s Sunshine Coast\, the conference combines professional development with an attractive destination experience. Delegates are encouraged to enjoy Noosa’s beaches\, national park\, boutique shopping and café culture before or after the event. \nFind out more about the Noosa Mining Investor Conference here.
URL:https://amets.com.au/event/noosa-mining-investor-conference/
LOCATION:Peppers Noosa Resort\, 33A Viewland Drive\, Noose Heads\, QLD\, 4567\, Australia
ATTACH;FMTTYPE=image/png:https://amets.com.au/wp-content/uploads/2026-Website-Event-Image-Noosa-Mining-Investor-Conference.png
END:VEVENT
END:VCALENDAR