BEGIN:VCALENDAR
VERSION:2.0
PRODID:-//AMETS - ECPv6.15.20//NONSGML v1.0//EN
CALSCALE:GREGORIAN
METHOD:PUBLISH
X-WR-CALNAME:AMETS
X-ORIGINAL-URL:https://amets.com.au
X-WR-CALDESC:Events for AMETS
REFRESH-INTERVAL;VALUE=DURATION:PT1H
X-Robots-Tag:noindex
X-PUBLISHED-TTL:PT1H
BEGIN:VTIMEZONE
TZID:Australia/Brisbane
BEGIN:STANDARD
TZOFFSETFROM:+1000
TZOFFSETTO:+1000
TZNAME:AEST
DTSTART:20250101T000000
END:STANDARD
END:VTIMEZONE
BEGIN:VEVENT
DTSTART;VALUE=DATE:20260921
DTEND;VALUE=DATE:20260924
DTSTAMP:20260426T081722
CREATED:20251211T033946Z
LAST-MODIFIED:20251211T034020Z
UID:6531-1789948800-1790207999@amets.com.au
SUMMARY:AUSIMM Critical Minerals Conference
DESCRIPTION:The Critical Minerals Conference returns to Brisbane in 2026\, bringing together thought leaders from industry\, government and finance to tackle the most pressing issues in critical minerals and the global energy transition. This flagship AusIMM event provides an essential forum for discussion\, innovation and collaboration as the world works towards net-zero emissions and increasing demand for critical minerals. \nWhat to Expect \n\nIndustry-Leading Program: Hear from global experts and practitioners on the future of critical minerals\, supply chain resilience and cutting-edge technologies. Delegates will have access to a world-class agenda designed by an industry-led advisory committee.\nProfessional Development: Attendees can earn up to 24 Professional Development (PD) hours through presentations\, workshops and technical sessions.\nNetworking Opportunities: Connect with peers and leaders in the mining and resources sector. Structured networking breaks and social events are built into the program to help you forge new connections and share insights.\n\nWhy Attend \nCritical minerals are essential components of technologies powering the energy transition — from batteries and electric vehicles to renewable energy infrastructure. This conference is designed for industry professionals who want to stay ahead of global demand drivers\, discover innovative solutions\, and contribute to the future of the sector. \nLocation & Experience \nHosted at the Brisbane Convention & Exhibition Centre\, delegates are invited not only to engage with influential voices in the industry\, but also to experience Queensland — a dynamic destination known for its vibrant business and lifestyle environment. \nFind out more at AUSIMM.
URL:https://amets.com.au/event/ausimm-cmc-2026/
LOCATION:Brisbane Convention and Exhibition Centre\, Grey St\, South Brisbane\, QLD\, Australia
ATTACH;FMTTYPE=image/png:https://amets.com.au/wp-content/uploads/2026-Website-Event-Image-AUSIMM.png
END:VEVENT
END:VCALENDAR