BEGIN:VCALENDAR
VERSION:2.0
PRODID:-//AMETS - ECPv6.15.20//NONSGML v1.0//EN
CALSCALE:GREGORIAN
METHOD:PUBLISH
X-WR-CALNAME:AMETS
X-ORIGINAL-URL:https://amets.com.au
X-WR-CALDESC:Events for AMETS
REFRESH-INTERVAL;VALUE=DURATION:PT1H
X-Robots-Tag:noindex
X-PUBLISHED-TTL:PT1H
BEGIN:VTIMEZONE
TZID:Australia/Melbourne
BEGIN:STANDARD
TZOFFSETFROM:+1100
TZOFFSETTO:+1000
TZNAME:AEST
DTSTART:20230401T160000
END:STANDARD
BEGIN:DAYLIGHT
TZOFFSETFROM:+1000
TZOFFSETTO:+1100
TZNAME:AEDT
DTSTART:20230930T160000
END:DAYLIGHT
BEGIN:STANDARD
TZOFFSETFROM:+1100
TZOFFSETTO:+1000
TZNAME:AEST
DTSTART:20240406T160000
END:STANDARD
BEGIN:DAYLIGHT
TZOFFSETFROM:+1000
TZOFFSETTO:+1100
TZNAME:AEDT
DTSTART:20241005T160000
END:DAYLIGHT
BEGIN:STANDARD
TZOFFSETFROM:+1100
TZOFFSETTO:+1000
TZNAME:AEST
DTSTART:20250405T160000
END:STANDARD
BEGIN:DAYLIGHT
TZOFFSETFROM:+1000
TZOFFSETTO:+1100
TZNAME:AEDT
DTSTART:20251004T160000
END:DAYLIGHT
END:VTIMEZONE
BEGIN:VTIMEZONE
TZID:Australia/Melbourne
BEGIN:STANDARD
TZOFFSETFROM:+1100
TZOFFSETTO:+1000
TZNAME:AEST
DTSTART:20230401T160000
END:STANDARD
BEGIN:DAYLIGHT
TZOFFSETFROM:+1000
TZOFFSETTO:+1100
TZNAME:AEDT
DTSTART:20230930T160000
END:DAYLIGHT
BEGIN:STANDARD
TZOFFSETFROM:+1100
TZOFFSETTO:+1000
TZNAME:AEST
DTSTART:20240406T160000
END:STANDARD
BEGIN:DAYLIGHT
TZOFFSETFROM:+1000
TZOFFSETTO:+1100
TZNAME:AEDT
DTSTART:20241005T160000
END:DAYLIGHT
BEGIN:STANDARD
TZOFFSETFROM:+1100
TZOFFSETTO:+1000
TZNAME:AEST
DTSTART:20250405T160000
END:STANDARD
BEGIN:DAYLIGHT
TZOFFSETFROM:+1000
TZOFFSETTO:+1100
TZNAME:AEDT
DTSTART:20251004T160000
END:DAYLIGHT
END:VTIMEZONE
BEGIN:VEVENT
DTSTART;TZID=Australia/Melbourne:20241022T163000
DTEND;TZID=Australia/Melbourne:20241022T183000
DTSTAMP:20260426T012435
CREATED:20241015T115602Z
LAST-MODIFIED:20251202T010240Z
UID:5918-1729614600-1729621800@amets.com.au
SUMMARY:AMEC QLD Networking Sundowner
DESCRIPTION:AMETS QLD Tenement Manager\, Robyn Kelly\, will be attending the AMEC QLD Networking Sundowner at The Townsville Surf Club on Tuesday\, October 22nd. \nJoin us for an evening of insights and networking with industry leaders with special guest\, the Hon Scott Stewart MP\, Minister for Resources and Critical Minerals\, who will be sharing his perspective on the future of our sector. \nVenue: The Surf Club\, 80 The Strand\, Townsville\nDate: Tuesday\, October 22nd\nTime: 4:30 pm – 6:30 pm \nDon’t miss this opportunity to connect with Robyn and engage with fellow industry colleagues. \nClick here to register and secure your spot: Click here to register
URL:https://amets.com.au/event/amec-qld-networking-sundowner/
LOCATION:QLD
ATTACH;FMTTYPE=image/png:https://amets.com.au/wp-content/uploads/Logo.png
END:VEVENT
BEGIN:VEVENT
DTSTART;TZID=Australia/Melbourne:20241002T140000
DTEND;TZID=Australia/Melbourne:20241002T170000
DTSTAMP:20260426T012435
CREATED:20240930T142011Z
LAST-MODIFIED:20251202T010256Z
UID:5915-1727877600-1727888400@amets.com.au
SUMMARY:AMEC Meet The Regulator
DESCRIPTION:Tamara Grothues\, AMETS Principal Tenement Manager QLD | PNG | TAS\, will be attending an important briefing hosted by The Association of Mining and Exploration Companies (AMEC) in collaboration with the Queensland Government on 2 October. This session will focus on recent legislative amendments impacting our industry\, including: \n\nChanges under the Minerals Resources Act\nUpdates to the Financial Provisioning Scheme\nEstablishment of Coexistence Qld\nNew laws and penalties under the Environmental Protection Act\n\nThis briefing will feature key representatives from the Department of Resources\, Coexistence Queensland\, Department of Environment and Science\, and Queensland Treasury.
URL:https://amets.com.au/event/amec-meet-the-regulator/
LOCATION:Brisbane
ATTACH;FMTTYPE=image/png:https://amets.com.au/wp-content/uploads/AMEC.png
END:VEVENT
BEGIN:VEVENT
DTSTART;TZID=Australia/Melbourne:20240918T080000
DTEND;TZID=Australia/Melbourne:20240919T170000
DTSTAMP:20260426T012435
CREATED:20240626T215858Z
LAST-MODIFIED:20251202T010336Z
UID:5904-1726646400-1726765200@amets.com.au
SUMMARY:Mining The Territory
DESCRIPTION:Mining the Territory is Northern Australia’s leading mining conference taking a deep dive into the region’s industry: From exploration & resources development to operation\, market & logistics. \nAs part of the NT Resources Week\, the Mining the Territory conference brings together key industry leaders\, opinion leaders and experts to provide you with up-to-date information on the current mining exploration\, investment and development opportunities in the top end’s mineral industry.
URL:https://amets.com.au/event/mining-the-territory/
LOCATION:Darwin Convention Centre\, 10 Stokes Hill Road\, Darwin City\, NT\, 080\, Australia
ATTACH;FMTTYPE=image/jpeg:https://amets.com.au/wp-content/uploads/Logo-2.jpg
END:VEVENT
END:VCALENDAR