BEGIN:VCALENDAR
VERSION:2.0
PRODID:-//AMETS - ECPv6.15.20//NONSGML v1.0//EN
CALSCALE:GREGORIAN
METHOD:PUBLISH
X-ORIGINAL-URL:https://amets.com.au
X-WR-CALDESC:Events for AMETS
REFRESH-INTERVAL;VALUE=DURATION:PT1H
X-Robots-Tag:noindex
X-PUBLISHED-TTL:PT1H
BEGIN:VTIMEZONE
TZID:Australia/Melbourne
BEGIN:STANDARD
TZOFFSETFROM:+1100
TZOFFSETTO:+1000
TZNAME:AEST
DTSTART:20240406T160000
END:STANDARD
BEGIN:DAYLIGHT
TZOFFSETFROM:+1000
TZOFFSETTO:+1100
TZNAME:AEDT
DTSTART:20241005T160000
END:DAYLIGHT
BEGIN:STANDARD
TZOFFSETFROM:+1100
TZOFFSETTO:+1000
TZNAME:AEST
DTSTART:20250405T160000
END:STANDARD
BEGIN:DAYLIGHT
TZOFFSETFROM:+1000
TZOFFSETTO:+1100
TZNAME:AEDT
DTSTART:20251004T160000
END:DAYLIGHT
BEGIN:STANDARD
TZOFFSETFROM:+1100
TZOFFSETTO:+1000
TZNAME:AEST
DTSTART:20260404T160000
END:STANDARD
BEGIN:DAYLIGHT
TZOFFSETFROM:+1000
TZOFFSETTO:+1100
TZNAME:AEDT
DTSTART:20261003T160000
END:DAYLIGHT
END:VTIMEZONE
BEGIN:VEVENT
DTSTART;TZID=Australia/Melbourne:20251205T183000
DTEND;TZID=Australia/Melbourne:20251205T230000
DTSTAMP:20260426T084413
CREATED:20250108T115025Z
LAST-MODIFIED:20251201T011542Z
UID:5971-1764959400-1764975600@amets.com.au
SUMMARY:AMEC Awards Gala Dinner
DESCRIPTION:The prestigious AMEC Awards Gala Dinner will be held Friday 5 December 2025 in Perth! \nAs a sponsor AMETS is excited to be part of this unforgettable evening and to join industry peers\, clients\, and innovators celebrating the outstanding achievements in mining and exploration over the past year. The event highlights excellence across various areas: \n\nExceptional Mineral Discoveries\nEnvironmental stewardship\nSustainable Community Impact\nDiversity and Inclusion\nEmpowering Aboriginal and Torres Strait Islander Employees\n\nAMETS is extremely proud to be nominated as Finalist in the Diversity and Inclusion category\, and we look forward to congratulating all nominees on their achievements. \nFurther details can be found at AMEC Awards 2025 – AMEC | Association of Mining and Exploration Companies
URL:https://amets.com.au/event/amec-awards-dinner/
LOCATION:Crown Towers\, Burswood\, WA
ATTACH;FMTTYPE=image/png:https://amets.com.au/wp-content/uploads/AMEC-Awards.png
END:VEVENT
BEGIN:VEVENT
DTSTART;TZID=Australia/Melbourne:20251211T130000
DTEND;TZID=Australia/Melbourne:20251211T170000
DTSTAMP:20260426T084413
CREATED:20251118T191229Z
LAST-MODIFIED:20251201T011507Z
UID:6078-1765458000-1765472400@amets.com.au
SUMMARY:SMEDG Christmas Cruise
DESCRIPTION:AMETS is excited to be joining — and sponsoring — the 2025 SMEDG Christmas Cruise aboard Karisma II on stunning Sydney Harbour! \nThis iconic end-of-year event brings together industry colleagues and friends for four hours of cruising\, gourmet food and drinks\, and plenty of opportunities to connect and celebrate another big year in exploration and mining. \nBoarding Options\nOption 1: 12:50pm – McMahons Point\n2 Henry Lawson Ave\, McMahons Point \nOption 2: 1:00pm – Circular Quay\nPrivate ferry wharf\, outside Museum of Contemporary Arts \nReturn: Approximately 5:00pm to Circular Quay\, then McMahons Point. \nWe look forward to raising a glass with the SMEDG community and celebrating the year that was! \nRegistrations Essential: Australian Institute of Geoscientists \n 
URL:https://amets.com.au/event/smedg-christmas-cruise/
LOCATION:Sydney Harbour\, Circular Quay
ATTACH;FMTTYPE=image/png:https://amets.com.au/wp-content/uploads/Logo-1-6.png
END:VEVENT
END:VCALENDAR