BEGIN:VCALENDAR
VERSION:2.0
PRODID:-//AMETS - ECPv6.15.20//NONSGML v1.0//EN
CALSCALE:GREGORIAN
METHOD:PUBLISH
X-ORIGINAL-URL:https://amets.com.au
X-WR-CALDESC:Events for AMETS
REFRESH-INTERVAL;VALUE=DURATION:PT1H
X-Robots-Tag:noindex
X-PUBLISHED-TTL:PT1H
BEGIN:VTIMEZONE
TZID:Australia/Sydney
BEGIN:STANDARD
TZOFFSETFROM:+1100
TZOFFSETTO:+1000
TZNAME:AEST
DTSTART:20250405T160000
END:STANDARD
BEGIN:DAYLIGHT
TZOFFSETFROM:+1000
TZOFFSETTO:+1100
TZNAME:AEDT
DTSTART:20251004T160000
END:DAYLIGHT
BEGIN:STANDARD
TZOFFSETFROM:+1100
TZOFFSETTO:+1000
TZNAME:AEST
DTSTART:20260404T160000
END:STANDARD
BEGIN:DAYLIGHT
TZOFFSETFROM:+1000
TZOFFSETTO:+1100
TZNAME:AEDT
DTSTART:20261003T160000
END:DAYLIGHT
BEGIN:STANDARD
TZOFFSETFROM:+1100
TZOFFSETTO:+1000
TZNAME:AEST
DTSTART:20270403T160000
END:STANDARD
BEGIN:DAYLIGHT
TZOFFSETFROM:+1000
TZOFFSETTO:+1100
TZNAME:AEDT
DTSTART:20271002T160000
END:DAYLIGHT
END:VTIMEZONE
BEGIN:VTIMEZONE
TZID:Australia/Brisbane
BEGIN:STANDARD
TZOFFSETFROM:+1000
TZOFFSETTO:+1000
TZNAME:AEST
DTSTART:20250101T000000
END:STANDARD
END:VTIMEZONE
BEGIN:VEVENT
DTSTART;TZID=Australia/Sydney:20260504T100000
DTEND;TZID=Australia/Sydney:20260504T183000
DTSTAMP:20260426T010447
CREATED:20251211T222314Z
LAST-MODIFIED:20251211T222314Z
UID:6564-1777888800-1777919400@amets.com.au
SUMMARY:Exploration & Tenures Forum
DESCRIPTION:The Exploration & Tenures Forum 2026 brings together exploration professionals\, industry leaders and policy makers for a dedicated program highlighting successful exploration and development projects across New South Wales. This event provides a strategic platform to hear first-hand from government representatives\, industry practitioners\, academics and specialist consultants on key topics shaping the state’s exploration landscape. \nEvent Highlights \n\nPolicy & Regulatory Updates\nGain insights from the NSW Government on current and upcoming policies affecting exploration and land access.\nExpert Perspectives\nLearn from experienced industry professionals and technical specialists about best practices and innovations in exploration\, community consultation and tenure management.\nNetworking Opportunities\nConnect with a broad cross-section of the sector\, including chief executives\, exploration and titles managers\, community and approvals professionals\, field staff and specialist consultants from both junior explorers and major operators.\nStructured Day Program\nThe day includes arrival and networking\, keynote presentations and discussions\, followed by networking drinks — providing a valuable mix of professional insight and relationship building.\n\nWhy Attend \nThis forum is essential for professionals involved in mineral exploration and tenures in NSW who want to stay informed on regulatory developments\, learn from peer experiences and expand their professional networks. Delegates will return to their organisations with fresh perspectives on navigating the exploration environment and advancing exploration outcomes. \nLocation & Experience \nHeld in the Boronia Ballroom at the InterContinental Sydney\, the forum creates a dynamic environment for learning and engagement in the heart of Sydney’s business district. \nFind out more about the Exploration & Tenures Forum here.
URL:https://amets.com.au/event/exploration-tenures-forum/
LOCATION:Intercontinental\, Sydney\, 16 Phillip Street\, Sydney\, NSW
ATTACH;FMTTYPE=image/png:https://amets.com.au/wp-content/uploads/2026-Website-Event-Image-Exploration-Tenures-Forum.png
END:VEVENT
BEGIN:VEVENT
DTSTART;VALUE=DATE:20260505
DTEND;VALUE=DATE:20260508
DTSTAMP:20260426T010447
CREATED:20251211T221334Z
LAST-MODIFIED:20251211T221334Z
UID:6560-1777939200-1778198399@amets.com.au
SUMMARY:RIU Sydney Resources Round-Up
DESCRIPTION:Australia’s Premier Mining & Resources Investment Conference \nThe RIU Sydney Resources Round-up is one of the largest and most established investment conferences on Australia’s east coast\, tailored for the mining and resources sector. This high-impact event provides a dynamic platform where resource companies\, investors\, brokers\, fund managers and financial professionals come together to explore investment opportunities\, present projects and engage in meaningful networking over three days. \nEvent Highlights \n\nInvestment-Focused Conference Program\nA comprehensive agenda featuring presentations from exploration and development companies across key commodity sectors\, offering insights into project potential\, strategy and market outlook.\nBustling Exhibition & 1-on-1 Meetings\nThe expo area and dedicated one-on-one meeting platform create an ideal environment for deal-making\, direct engagement and relationship building between presenters and delegates.\nDiverse Participation\nAttracting a wide audience — including ASX-listed companies\, institutional investors\, brokers and private investors — the Round-up fosters a vibrant marketplace for capital and ideas.\n\nWhy Attend \nThe RIU Sydney Resources Round-up has earned its reputation over more than two decades as a must-attend corporate mining investment forum. Delegates benefit from concentrated exposure to emerging resource stories\, face-to-face dialogue with company leadership\, and opportunities to connect with decision-makers shaping the future of Australia’s resource sector. \nLocation & Experience \nHosted at the Hyatt Regency Sydney\, the conference offers a central and professional setting for knowledge exchange and networking\, set within one of Australia’s key financial and cultural hubs. \nFind out more about the RIU Sydney Resources Round-Up here.
URL:https://amets.com.au/event/riu-resources-round-up/
LOCATION:Hyatt Regency Hotel Sydney\, Sydney\, NSW
ATTACH;FMTTYPE=image/png:https://amets.com.au/wp-content/uploads/2026-Website-Event-Image-RIU-Sydney-Resources-Round-Up.png
END:VEVENT
BEGIN:VEVENT
DTSTART;TZID=Australia/Brisbane:20260513T120000
DTEND;TZID=Australia/Brisbane:20260513T143000
DTSTAMP:20260426T010447
CREATED:20260422T000059Z
LAST-MODIFIED:20260422T000059Z
UID:7859-1778673600-1778682600@amets.com.au
SUMMARY:Austex x AMEC Brisbane Resources Lunch
DESCRIPTION:AMETS Tenements & Geoservices Queensland Principal Tenement Manager\, Tamara Grothues will be attending the Austex x AMEC Brisbane Resources Lunch on 13 May 2026. \nAttendees can expect strong insights from: \n\nSunshine Metals – Damien Keys | Managing Director\nCannindah Resources – Camerson Switzer | Managing Director\nLava Blue – Michael McCann | Managing Director\nGreen and Gold Minerals – Quentin Hill | Managing Director\n\nFind out more and book your tickets here.
URL:https://amets.com.au/event/austex-x-amec-brisbane-resources-lunch/
LOCATION:Darling & Co\, 157 Given Terrace\, Paddington\, QLD\, Australia
ATTACH;FMTTYPE=image/png:https://amets.com.au/wp-content/uploads/2026-Website-Event-Image-Austex-x-AMEC-13-May.png
END:VEVENT
END:VCALENDAR